BEGIN:VCALENDAR
VERSION:2.0
PRODID:-//BioLogisch Limburg - ECPv6.11.2.1//NONSGML v1.0//EN
CALSCALE:GREGORIAN
METHOD:PUBLISH
X-WR-CALNAME:BioLogisch Limburg
X-ORIGINAL-URL:https://www.biologischlimburg.com
X-WR-CALDESC:Evenementen voor BioLogisch Limburg
REFRESH-INTERVAL;VALUE=DURATION:PT1H
X-Robots-Tag:noindex
X-PUBLISHED-TTL:PT1H
BEGIN:VTIMEZONE
TZID:Europe/Amsterdam
BEGIN:DAYLIGHT
TZOFFSETFROM:+0100
TZOFFSETTO:+0200
TZNAME:CEST
DTSTART:20240331T010000
END:DAYLIGHT
BEGIN:STANDARD
TZOFFSETFROM:+0200
TZOFFSETTO:+0100
TZNAME:CET
DTSTART:20241027T010000
END:STANDARD
END:VTIMEZONE
BEGIN:VEVENT
DTSTART;TZID=Europe/Amsterdam:20240307T193000
DTEND;TZID=Europe/Amsterdam:20240307T210000
DTSTAMP:20260422T140056
CREATED:20240229T102432Z
LAST-MODIFIED:20240229T102622Z
UID:13030-1709839800-1709845200@www.biologischlimburg.com
SUMMARY:Masterclass over regeneratief en gezond voedselsysteem
DESCRIPTION:BioLogisch Limburg houdt op donderdag 7 maart een masterclass over regeneratief en gezond voedselsysteem in 2050. Deze masterclass wordt gegeven door Imke de Boer.\n\nDe locatie is het Ondernemersplein Limburg\, Steegstsraat 5 in Roermond. Inloop is om 19.30 uur en om stipt 19.45 uur start de masterclass. \n\nVoedselvisie\nHoe kunnen we ons voedselsysteem hervormen op een manier dat er voldoende en gezond voedsel voor iedereen is\, maar ook op een manier dat natuur en milieu kunnen herstellen? Imke de Boer\, hoogleraar Dieren & Duurzame Voedselsystemen aan Wageningen Universiteit en zelfstandig adviseur onder de naam De Boer en Voedsel\, heeft een team van boeren\, vertegenwoordigers van milieu- en landbouworganisaties en wetenschappers van Wageningen Universiteit geleid die samengewerkt hebben aan deze voedselvisie voor Nederland. \nDeelname aan de masterclass is gratis en toegankelijk voor zowel leden als niet-leden van BioLogisch Limburg. Aanmelden kan tot en met dinsdag 5 maart via info@biologischlimburg.com.
URL:https://www.biologischlimburg.com/event/masterclass-over-regeneratief-en-gezond-voedselsysteem/
LOCATION:Ondernemersplein\, Steegstraat 5 in Roermond
END:VEVENT
END:VCALENDAR